BEGIN:VCALENDAR
METHOD:PUBLISH
PRODID:-//doubleknot.com//CalenderEvent MIMEDIR//EN
VERSION:2.0
BEGIN:VEVENT
UID:3138483-20260507T070000Z-20260508T070000Z@doubleknot.com
CREATED:20260224T174711Z
LAST-MODIFIED:20260224T175434Z
DTSTAMP:20260421T101646Z
DTSTART;VALUE=DATE:20260507
DTEND;VALUE=DATE:20260508
LOCATION:US
CATEGORIES:
DESCRIPTION: \n 
SUMMARY:Scouts Read Sacred Texts
PRIORITY:5
BEGIN:VALARM
TRIGGER:PT15M
ACTION:DISPLAY
DESCRIPTION:Reminder
PRIORITY:5
END:VALARM
END:VEVENT
END:VCALENDAR
