BEGIN:VCALENDAR
METHOD:PUBLISH
PRODID:-//doubleknot.com//CalenderEvent MIMEDIR//EN
VERSION:2.0
BEGIN:VEVENT
UID:3142186-20260506T130000Z-20260506T143000Z@doubleknot.com
CREATED:20260327T180747Z
LAST-MODIFIED:20260327T180747Z
DTSTAMP:20260421T084921Z
DTSTART:20260506T130000Z
DTEND:20260506T143000Z
LOCATION:US
CATEGORIES:
DESCRIPTION:Click here for more information and to register online. \n 
SUMMARY:River Parishes Golden Eagle Breakfast
PRIORITY:5
BEGIN:VALARM
TRIGGER:PT15M
ACTION:DISPLAY
DESCRIPTION:Reminder
PRIORITY:5
END:VALARM
END:VEVENT
END:VCALENDAR
