BEGIN:VCALENDAR
METHOD:PUBLISH
PRODID:-//doubleknot.com//CalenderEvent MIMEDIR//EN
VERSION:2.0
BEGIN:VEVENT
UID:3142188-20260726T180000Z-20260726T193000Z@doubleknot.com
CREATED:20260327T181920Z
LAST-MODIFIED:20260327T182233Z
DTSTAMP:20260419T201839Z
DTSTART:20260726T180000Z
DTEND:20260726T193000Z
LOCATION:3900 Derbigny St., Metairie, LA 70001, US
CATEGORIES:Activities
DESCRIPTION:Announcing the 2026 Popcorn Kickoff \n  \n  \n FREE Jambalaya Dinner for everyone and a Sales Training Seminar &ldquo;How to sell $10,000 in a Weekend&rdquo; Training by Jason Sieg \n  \n  \n   \n  \n  \n St. Christopher Catholic Church Gymnasium \n  \n  \n 3900 Derbigny Street, Metairie, LA 70001 \n  \n  \n   \n  \n  \n Participants need to enter the school yard off of Johnson street on the backside of the school \n  \n  \n   \n  \n  \n Time: 1:00 PM \n  \n  \n Date: Sunday, July 26, 2026 \n  \n  \n   \n  \n  \n   \n  \n  \n Contact E-mail \n  \n  \n juan.prado@scouting.org \n  \n  \n   \n  \n  \n   \n 
SUMMARY:2026 Popcorn Kickoff Registration
PRIORITY:5
BEGIN:VALARM
TRIGGER:PT15M
ACTION:DISPLAY
DESCRIPTION:Reminder
PRIORITY:5
END:VALARM
END:VEVENT
END:VCALENDAR
